BEGIN:VCALENDAR
VERSION:2.0
PRODID:-//Rendez-vous international du carnet de voyage - ECPv6.15.11//NONSGML v1.0//EN
CALSCALE:GREGORIAN
METHOD:PUBLISH
X-WR-CALNAME:Rendez-vous international du carnet de voyage
X-ORIGINAL-URL:https://rendezvous-carnetdevoyage.com
X-WR-CALDESC:évènements pour Rendez-vous international du carnet de voyage
REFRESH-INTERVAL;VALUE=DURATION:PT1H
X-Robots-Tag:noindex
X-PUBLISHED-TTL:PT1H
BEGIN:VTIMEZONE
TZID:Europe/Paris
BEGIN:DAYLIGHT
TZOFFSETFROM:+0100
TZOFFSETTO:+0200
TZNAME:CEST
DTSTART:20240331T010000
END:DAYLIGHT
BEGIN:STANDARD
TZOFFSETFROM:+0200
TZOFFSETTO:+0100
TZNAME:CET
DTSTART:20241027T010000
END:STANDARD
BEGIN:DAYLIGHT
TZOFFSETFROM:+0100
TZOFFSETTO:+0200
TZNAME:CEST
DTSTART:20250330T010000
END:DAYLIGHT
BEGIN:STANDARD
TZOFFSETFROM:+0200
TZOFFSETTO:+0100
TZNAME:CET
DTSTART:20251026T010000
END:STANDARD
BEGIN:DAYLIGHT
TZOFFSETFROM:+0100
TZOFFSETTO:+0200
TZNAME:CEST
DTSTART:20260329T010000
END:DAYLIGHT
BEGIN:STANDARD
TZOFFSETFROM:+0200
TZOFFSETTO:+0100
TZNAME:CET
DTSTART:20261025T010000
END:STANDARD
END:VTIMEZONE
BEGIN:VEVENT
DTSTART;VALUE=DATE:20251114
DTEND;VALUE=DATE:20251117
DTSTAMP:20260422T015437
CREATED:20251007T151346Z
LAST-MODIFIED:20251007T151648Z
UID:24260-1763078400-1763337599@rendezvous-carnetdevoyage.com
SUMMARY:Rendez Vous International du Carnet de Voyage 2025
DESCRIPTION:25e Rendez-vous International du Carnet de Voyage\n14 au 16 novembre 2025\nPolydome – Clermont-Ferrand\nRetrouvez toute la programmation ici : https://rendezvous-carnetdevoyage.com/article-a-la-1/la-programmation-2025/ \nPendant trois jours\, plus de 100 invités français et étrangers viennent exposer leurs carnets de voyages et rencontrer le public. De l’aquarelle à la bande dessinée\, du carnet traditionnel aux carnets numériques et sonores\, tous les styles sont représentés\, faisant du Rendez-vous clermontois la plus grande manifestation du genre et un moment unique de découverte et de partage. \nLes expositions de carnets constituent le cœur de la manifestation et proposent de nombreuses possibilités de découvrir les richesses du genre. Certains artistes présentent un pays\, d’autres des faits de société\, par le biais de dessins\, peintures\, bandes dessinées ou écritures diverses telles que les carnets numériques et sonores. \nLe Rendez-vous\, c’est aussi : \n– Des rencontres littéraires avec les écrivains autour de leurs oeuvres et leurs voyages\, \n– Des débats-rencontres qui permettent de croiser des regards sur des thématiques liées au voyage. \n– Des projections de films qui se déroulent toujours en présence des réalisateurs afin d’ouvrir le dialogue à la fin de chaque séance. \n– Des ateliers animés par des carnettistes qui font participer le public à la création de carnet et sensibilisent les visiteurs à cette pratique (ateliers grand public et enfants) \n– Des séances sonores qui permettent de voyager par le son\, \n– Des live sketch\, performances de dessin retransmises en direct sur grand écran. \n– Un programme jeunesse le vendredi à destination du public scolaire et étudiant. \n– Des prix qui récompensent les carnets les plus remarquables. \n– Un espace livre qui réunit libraires et éditeurs. L’espace boutique permet la vente des ouvrages autoédités et des produits dérivés.
URL:https://rendezvous-carnetdevoyage.com/evenement/rendez-vous-international-du-carnet-de-voyage-2025/
LOCATION:Clermont-Ferrand (Polydome)\, Place Du Premier Mai\, Clermont-Ferrand\, 63100\, France
CATEGORIES:Festival
ATTACH;FMTTYPE=image/png:https://rendezvous-carnetdevoyage.com/wp-content/uploads/Affiche_RDV2025_Paysage-scaled.png
ORGANIZER;CN="Il Faut Aller Voir":MAILTO:info@ifav.fr
END:VEVENT
END:VCALENDAR